BEGIN:VCALENDAR
VERSION:2.0
PRODID:-//AudioTheme 2.0.3
BEGIN:VEVENT
UID:urn:uuid:efc32b9a-1559-4c75-9e08-9bbe13bcbf5c
URL:https://juliajohnson.com.au/shows/bighart-colourathon-national-gallery-of-australia/
DTSTART;TZID=GMT:20171130T000000
SUMMARY:BighART Colourathon, National Gallery of Australia
LOCATION:National Gallery of Australia\, Canberra\, ACT\, Australia
END:VEVENT
END:VCALENDAR
