BEGIN:VCALENDAR
VERSION:2.0
PRODID:-//AudioTheme 2.0.3
BEGIN:VEVENT
UID:urn:uuid:42b62f44-44e5-49ce-afbd-ca090d38ab4c
URL:https://juliajohnson.com.au/shows/collarbone-single-launch-canberra/
DTSTART;TZID=GMT:20180707T080000
SUMMARY:Collarbone Single Launch - Canberra
LOCATION:The Street Theatre\, 15 Childers Street\, Canberra\, ACT\, Australia\, 2602
END:VEVENT
END:VCALENDAR
