BEGIN:VCALENDAR
VERSION:2.0
PRODID:-//AudioTheme 2.0.3
BEGIN:VEVENT
UID:urn:uuid:f47bad35-146f-4c1d-83a4-41b64e64fe36
URL:https://juliajohnson.com.au/shows/collarbone-single-launch-melbourne-with-lack-the-low-fake-sibling/
DTSTART;TZID=GMT:20180727T000000
SUMMARY:Collarbone Single Launch - Melbourne with Lack the Low + Fake Sibling
LOCATION:Wesley Anne\, 250 High Street\, Northcote\, VIC\, Australia\, 3070
END:VEVENT
END:VCALENDAR
