BEGIN:VCALENDAR
VERSION:2.0
PRODID:-//AudioTheme 2.0.3
BEGIN:VEVENT
UID:urn:uuid:0f12a7f9-e16f-4028-9bae-f298b26de0ce
URL:https://juliajohnson.com.au/shows/duncan-saige-under-the-weather-tour-w-oly-sherman/
DTSTART;TZID=GMT:20191016T080000
SUMMARY:Duncan Saige 'Under the Weather' Tour w/ Oly Sherman
DESCRIPTION:Duncan Saige 'Under the Weather' Tour | Sydney w/ Oly Sherman + Julia Johnson
LOCATION:Lazybones Lounge\, 294 Marrickville Rd\, MARRICKVILLE\, NSW\, Australia\, 2204
END:VEVENT
END:VCALENDAR
