BEGIN:VCALENDAR
VERSION:2.0
PRODID:-//AudioTheme 2.0.3
BEGIN:VEVENT
UID:urn:uuid:c1bad3e5-7f91-4cd2-acea-805ce891cb4e
URL:https://juliajohnson.com.au/shows/folk-frontiers/
DTSTART;TZID=GMT:20180524T093000
SUMMARY:Folk Frontiers
DESCRIPTION:Playing a special preview set\, with some new songs!
LOCATION:The Record Crate\, Glebe Point Road\, Glebe\, NSW\, Australia
END:VEVENT
END:VCALENDAR
