BEGIN:VCALENDAR
VERSION:2.0
PRODID:-//AudioTheme 2.0.3
BEGIN:VEVENT
UID:urn:uuid:7a31844d-3602-462b-b965-4594d5f76803
URL:https://juliajohnson.com.au/shows/folkswagon-wchristian-patey-kay-proudlove/
DTSTART;TZID=GMT:20171115T083000
SUMMARY:Folkswagon w/Christian Patey & Kay Proudlove
DESCRIPTION:FREE GIG! With some lovely\, lovely musicians\, Christian Patey and Kay Proudlove
LOCATION:Cafe Lounge\, 277 Goulburn Street\, Sydney\, NSW\, Australia\, 2010
END:VEVENT
END:VCALENDAR
