BEGIN:VCALENDAR
VERSION:2.0
PRODID:-//AudioTheme 2.0.3
BEGIN:VEVENT
UID:urn:uuid:6f7610bc-4a28-45cc-a40a-0d0cdda30488
URL:https://juliajohnson.com.au/shows/griffin-up-late/
DTSTART;TZID=GMT:20171110T000000
SUMMARY:GRIFFIN UP LATE
DESCRIPTION:Join a hand-picked collection of nocturnal performers\, joke-makers and storytellers at GRIFFIN UP LATE – the last for the year.
LOCATION:Griffin Theatre\, 10 Nimrod Street\, KINGS CROSS\, NSW\, Australia\, 2011
END:VEVENT
END:VCALENDAR
