BEGIN:VCALENDAR
VERSION:2.0
PRODID:-//AudioTheme 2.0.3
BEGIN:VEVENT
UID:urn:uuid:2698583f-c524-479d-9816-01d561380101
URL:https://juliajohnson.com.au/shows/julia-johnson-collarbone-single-launch-with-clarissa-mei-emily-stewart-rosanna-stevens/
DTSTART;TZID=GMT:20180810T000000
SUMMARY:Julia Johnson 'Collarbone' single launch with Clarissa Mei, Emily Stewart, Rosanna Stevens
LOCATION:107\, 107 Redfern Street\, Redfern\, NSW\, Australia\, 2015
END:VEVENT
END:VCALENDAR
