BEGIN:VCALENDAR
VERSION:2.0
PRODID:-//AudioTheme 2.0.3
BEGIN:VEVENT
UID:urn:uuid:afcf962a-cc10-4556-a8dc-c2c64bc2e75e
URL:https://juliajohnson.com.au/shows/national-live-music-awards-in-the-happy-axe-choir/
DTSTART;TZID=GMT:20171207T070000
SUMMARY:National Live Music Awards - in the Happy Axe choir
DESCRIPTION:https://www.facebook.com/events/343801216030341/
LOCATION:Leadbelly\, 42 King Street\, Newtown\, Sydney\, NSW\, Australia\, 2042
END:VEVENT
END:VCALENDAR
