BEGIN:VCALENDAR
VERSION:2.0
PRODID:-//AudioTheme 2.0.3
BEGIN:VEVENT
UID:urn:uuid:12fe7475-78df-4ced-b317-80903c955209
URL:https://juliajohnson.com.au/shows/porch-light-sessions-leroy-lee-julia-johnson-carl-manwarring/
DTSTART;TZID=GMT:20180712T093000
SUMMARY:PORCH LIGHT Sessions: Leroy Lee, Julia Johnson, Carl Manwarring
LOCATION:Petersham Bowling Club\, 77 Brighton Street\, Petersham\, NSW\, Australia\, 2204
END:VEVENT
END:VCALENDAR
